BEGIN:VCALENDAR
VERSION:2.0
PRODID:-//LAMPa - ECPv6.15.20//NONSGML v1.0//EN
CALSCALE:GREGORIAN
METHOD:PUBLISH
X-WR-CALNAME:LAMPa
X-ORIGINAL-URL:https://www.lutheranadvocacypa.org
X-WR-CALDESC:Events for LAMPa
REFRESH-INTERVAL;VALUE=DURATION:PT1H
X-Robots-Tag:noindex
X-PUBLISHED-TTL:PT1H
BEGIN:VTIMEZONE
TZID:America/New_York
BEGIN:DAYLIGHT
TZOFFSETFROM:-0500
TZOFFSETTO:-0400
TZNAME:EDT
DTSTART:20210314T070000
END:DAYLIGHT
BEGIN:STANDARD
TZOFFSETFROM:-0400
TZOFFSETTO:-0500
TZNAME:EST
DTSTART:20211107T060000
END:STANDARD
BEGIN:DAYLIGHT
TZOFFSETFROM:-0500
TZOFFSETTO:-0400
TZNAME:EDT
DTSTART:20220313T070000
END:DAYLIGHT
BEGIN:STANDARD
TZOFFSETFROM:-0400
TZOFFSETTO:-0500
TZNAME:EST
DTSTART:20221106T060000
END:STANDARD
BEGIN:DAYLIGHT
TZOFFSETFROM:-0500
TZOFFSETTO:-0400
TZNAME:EDT
DTSTART:20230312T070000
END:DAYLIGHT
BEGIN:STANDARD
TZOFFSETFROM:-0400
TZOFFSETTO:-0500
TZNAME:EST
DTSTART:20231105T060000
END:STANDARD
BEGIN:DAYLIGHT
TZOFFSETFROM:-0500
TZOFFSETTO:-0400
TZNAME:EDT
DTSTART:20240310T070000
END:DAYLIGHT
BEGIN:STANDARD
TZOFFSETFROM:-0400
TZOFFSETTO:-0500
TZNAME:EST
DTSTART:20241103T060000
END:STANDARD
BEGIN:DAYLIGHT
TZOFFSETFROM:-0500
TZOFFSETTO:-0400
TZNAME:EDT
DTSTART:20250309T070000
END:DAYLIGHT
BEGIN:STANDARD
TZOFFSETFROM:-0400
TZOFFSETTO:-0500
TZNAME:EST
DTSTART:20251102T060000
END:STANDARD
BEGIN:DAYLIGHT
TZOFFSETFROM:-0500
TZOFFSETTO:-0400
TZNAME:EDT
DTSTART:20260308T070000
END:DAYLIGHT
BEGIN:STANDARD
TZOFFSETFROM:-0400
TZOFFSETTO:-0500
TZNAME:EST
DTSTART:20261101T060000
END:STANDARD
END:VTIMEZONE
BEGIN:VEVENT
DTSTART;TZID=America/New_York:20250911T133000
DTEND;TZID=America/New_York:20250911T143000
DTSTAMP:20260422T083952
CREATED:20250810T201453Z
LAST-MODIFIED:20250810T201453Z
UID:14148-1757597400-1757601000@www.lutheranadvocacypa.org
SUMMARY:Kindling Faith: Aging Grace-Fully Author Series: Anne Lamott
DESCRIPTION:Aging Grace-Fully examines how to age with grace\nand live\, fully\, with the physical\, mental and social\nchanges that are often difficult to accept when\ngrowing older.\nJoin us to seek understanding and acceptance of\nthese challenges in our eight-part series featuring\nleading authors who share their knowledge and\nexperiences about aging including suffering\, love\nand loss. \nThis event will be in-person and also streamed. See registration for details
URL:https://www.lutheranadvocacypa.org/event/https-www-unitedlutheranseminary-edu-calendar-kindling-faith-aging-grace-fully-author-series-anne-lamott/
LOCATION:United Lutheran Seminary Gettysburg campus\, 61 Seminary Ridge\, Gettysburg\, PA\, United States
CATEGORIES:Education,Homepage Event,Interfaith
ATTACH;FMTTYPE=image/jpeg:https://www.lutheranadvocacypa.org/wp-content/uploads/2025/08/somehow-by-anne-lamott.jpg
END:VEVENT
BEGIN:VEVENT
DTSTART;TZID=America/New_York:20241022T190000
DTEND;TZID=America/New_York:20241022T203000
DTSTAMP:20260422T083952
CREATED:20240520T124449Z
LAST-MODIFIED:20240520T124449Z
UID:13587-1729623600-1729629000@www.lutheranadvocacypa.org
SUMMARY:Kindling Faith - "Freed in Christ: Race\, Ethnicity\, and Culture" with Dr. Richard Perry
DESCRIPTION:Join Kindling Faith for “Freed in Christ: Race\, Ethnicity\, and Culture” with Dr. Richard Perry\, emeritus faculty\, Lutheran School of Theology at Chicago. \nThe learning session will take place online via Zoom from 7:00 p.m. to 8:30 p.m. on October 22. \nParticipation costs $20 per individual or $80 per congregation with no limit to the number in attendance. \nYou can register here. Please contact Pastor Martin Otto-Zimmann or your synod office for possible support and payment options. \nPlease check out our event pages for each event in the Kindling Faith series\, called “What does it mean to be Lutheran in a crucial election year?\,” and let LAMPa know if you plan to join any of the sessions. \nYou can find a page with all programming in the series here. \nKindling Faith: Learning Never Ends is a program of United Lutheran Seminary (ULS)\, a seminary of the Evangelical Lutheran Church in America (ELCA).
URL:https://www.lutheranadvocacypa.org/event/kindling-faith-freed-in-christ-race-ethnicity-and-culture-with-dr-richard-perry/
LOCATION:Online Webinar
CATEGORIES:Advocacy,Civic Participation,Education,Elections,Homepage Event,Racial Justice,Social Justice
ATTACH;FMTTYPE=image/png:https://www.lutheranadvocacypa.org/wp-content/uploads/2024/05/ULS-169.png
END:VEVENT
BEGIN:VEVENT
DTSTART;TZID=America/New_York:20241008T190000
DTEND;TZID=America/New_York:20241008T203000
DTSTAMP:20260422T083952
CREATED:20240520T124356Z
LAST-MODIFIED:20240520T124356Z
UID:13586-1728414000-1728419400@www.lutheranadvocacypa.org
SUMMARY:Kindling Faith - "Earth's Climate Crisis Study Guide" with Dr. Ryan Cumming
DESCRIPTION:Join Kindling Faith for “Earth’s Climate Crisis Study Guide” with Dr. Ryan Cumming\, Program Director\, Theological Ethics\, Education\, and Community Engagement. \nThe learning session will take place online via Zoom from 7:00 p.m. to 8:30 p.m. on October 8. \nParticipation costs $20 per individual or $80 per congregation with no limit to the number in attendance. \nYou can register here. Please contact Pastor Martin Otto-Zimmann or your synod office for possible support and payment options. \nPlease check out our event pages for each event in the Kindling Faith series\, called “What does it mean to be Lutheran in a crucial election year?\,” and let LAMPa know if you plan to join any of the sessions. \nYou can find a page with all programming in the series here. \nKindling Faith: Learning Never Ends is a program of United Lutheran Seminary (ULS)\, a seminary of the Evangelical Lutheran Church in America (ELCA).
URL:https://www.lutheranadvocacypa.org/event/kindling-faith-earths-climate-crisis-study-guide-with-dr-ryan-cumming/
LOCATION:Online Webinar
CATEGORIES:Advocacy,Civic Participation,Climate,Education,Elections,Environment,Homepage Event
ATTACH;FMTTYPE=image/png:https://www.lutheranadvocacypa.org/wp-content/uploads/2024/05/ULS-169.png
END:VEVENT
BEGIN:VEVENT
DTSTART;TZID=America/New_York:20240924T190000
DTEND;TZID=America/New_York:20240924T203000
DTSTAMP:20260422T083952
CREATED:20240520T124302Z
LAST-MODIFIED:20240520T124302Z
UID:13584-1727204400-1727209800@www.lutheranadvocacypa.org
SUMMARY:Kindling Faith - "Faith\, Sexism and Justice" with Dr. Mary Streufert and Heather Dean
DESCRIPTION:Join Kindling Faith for “Faith\, Sexism and Justice” with Dr. Mary Streufert\, Director\, Gender Justice and Women’s Empowerment\, and Heather Dean\, Program Coordinator\, Theological Discernment\, ELCA. \nThe learning session will take place online via Zoom from 7:00 p.m. to 8:30 p.m. on September 24. \nParticipation costs $20 per individual or $80 per congregation with no limit to the number in attendance. \nYou can register here. Please contact Pastor Martin Otto-Zimmann or your synod office for possible support and payment options. \nPlease check out our event pages for each event in the Kindling Faith series\, called “What does it mean to be Lutheran in a crucial election year?\,” and let LAMPa know if you plan to join any of the sessions. \nYou can find a page with all programming in the series here. \nKindling Faith: Learning Never Ends is a program of United Lutheran Seminary (ULS)\, a seminary of the Evangelical Lutheran Church in America (ELCA).
URL:https://www.lutheranadvocacypa.org/event/kindling-faith-faith-sexism-and-justice-with-dr-mary-streufert-and-heather-dean/
LOCATION:Online Webinar
CATEGORIES:Advocacy,Civic Participation,Education,Elections,Homepage Event,Social Justice
ATTACH;FMTTYPE=image/png:https://www.lutheranadvocacypa.org/wp-content/uploads/2024/05/ULS-169.png
END:VEVENT
BEGIN:VEVENT
DTSTART;TZID=America/New_York:20240908T190000
DTEND;TZID=America/New_York:20240908T203000
DTSTAMP:20260422T083952
CREATED:20240520T124204Z
LAST-MODIFIED:20240813T173148Z
UID:13583-1725822000-1725827400@www.lutheranadvocacypa.org
SUMMARY:Kindling Faith - "Abortion" with Dr. Caryn Riswold
DESCRIPTION:Join Kindling Faith for “Abortion” with Dr. Caryn Riswold\, Professor of Religion/McCoy Family Distinguished Chair in Lutheran Heritage and Mission at Wartburg College. \nThe learning session will take place online via Zoom from 7:00 p.m. to 8:30 p.m. on September 8. \nParticipation costs $20 per individual or $80 per congregation with no limit to the number in attendance. \nYou can register here. Please contact Pastor Martin Otto-Zimmann or your synod office for possible support and payment options. \nPlease check out our event pages for each event in the Kindling Faith series\, called “What does it mean to be Lutheran in a crucial election year?\,” and let LAMPa know if you plan to join any of the sessions. \nYou can find a page with all programming in the series here. \nKindling Faith: Learning Never Ends is a program of United Lutheran Seminary (ULS)\, a seminary of the Evangelical Lutheran Church in America (ELCA).
URL:https://www.lutheranadvocacypa.org/event/kindling-faith-abortion-with-dr-caryn-riswold/
LOCATION:Online Webinar
CATEGORIES:Advocacy,Civic Participation,Education,Elections,Homepage Event
ATTACH;FMTTYPE=image/png:https://www.lutheranadvocacypa.org/wp-content/uploads/2024/05/ULS-169.png
END:VEVENT
BEGIN:VEVENT
DTSTART;TZID=America/New_York:20240827T190000
DTEND;TZID=America/New_York:20240827T203000
DTSTAMP:20260422T083952
CREATED:20240520T123419Z
LAST-MODIFIED:20240520T124050Z
UID:13582-1724785200-1724790600@www.lutheranadvocacypa.org
SUMMARY:Kindling Faith - "Corporate Social Responsibility" with Rev. Kaari Reierson
DESCRIPTION:Join Kindling Faith for “Corporate Social Responsibility” with Rev. Kaari Reierson\, Director of Corporate Social Responsibility for the ELCA. \nThe learning session will take place online via Zoom from 7:00 p.m. to 8:30 p.m. on August 27. \nParticipation costs $20 per individual or $80 per congregation with no limit to the number in attendance. \nYou can register here. Please contact Pastor Martin Otto-Zimmann or your synod office for possible support and payment options. \nPlease check out our event pages for each event in the Kindling Faith series\, called “What does it mean to be Lutheran in a crucial election year?\,” and let LAMPa know if you plan to join any of the sessions. \nYou can find a page with all programming in the series here. \nKindling Faith: Learning Never Ends is a program of United Lutheran Seminary (ULS)\, a seminary of the Evangelical Lutheran Church in America (ELCA).
URL:https://www.lutheranadvocacypa.org/event/kindling-faith-corporate-social-responsibility-with-rev-kaari-reierson/
LOCATION:Online Webinar
CATEGORIES:Advocacy,Civic Participation,Education,Elections,Homepage Event
ATTACH;FMTTYPE=image/png:https://www.lutheranadvocacypa.org/wp-content/uploads/2024/05/ULS-169.png
END:VEVENT
BEGIN:VEVENT
DTSTART;TZID=America/New_York:20240627T150000
DTEND;TZID=America/New_York:20240627T150000
DTSTAMP:20260422T083952
CREATED:20240611T184812Z
LAST-MODIFIED:20240611T190016Z
UID:13627-1719500400-1719500400@www.lutheranadvocacypa.org
SUMMARY:SUN Bucks Program Info Session
DESCRIPTION:The PA Food Policy Council is excited to partner with the PA Departments of Human Services (DHS) and Education (PDE) to host an information session on the PA SUN Bucks program which will launch in 2024. SUN Bucks is Pennsylvania’s Summer EBT program–a new grocery benefits program that provides households with a one-time payment of $120 for each eligible child to buy food while school is out. Benefits can be used at local participating retailers to purchase groceries. \nPA SUN Bucks Informational Session\nThursday\, June 27\, 2024\n3pm to 4pm\nVirtual session held via Microsoft Teams or dialing in by phone\nAll are welcome! Join us via Microsoft Teams or phone. Details below:\n________________________________________________________________________________\nJoin the meeting here \nMeeting ID: 282 230 908 207\nPasscode: 7NSXPg\n________________________________\nDial in by phone\n+1 267-332-8737\,\,362267244# United States\, Philadelphia\nRecording or transcribing this meeting\, in any manner including through a third-party application\, may not occur without the consent of all participants\, as required by law\, and must adhere to Commonwealth policies. For more info click the legal link.\nPrivacy and security\n________________________________________________________________________________ \nBackground information: \nPA SUN BUCKS Program\nSummer is a time when many children may not have access to the free and reduced-price meals they get during the school year\, and households might need a little extra help putting meals on the table.\nThis year Pennsylvania will launch SUN Bucks\, Pennsylvania’s Summer EBT program\, a new grocery benefits program that provides households with a one-time payment of $120 for each eligible child to buy food while school is out. Benefits can be used at local participating retailers to purchase groceries.\nMany children will get these benefits automatically\, but some households will need to apply. The benefits will be added to an existing SNAP/TANF EBT card or a newly issued Summer EBT card.\nTo learn more about SUN Bucks\, read more here.\nNote: For the first year of this program\, paper applications for children that are not automatically eligible will become available in July 2024. Benefits will be issued to all eligible children by October 2024. \nPA Food Policy Council\nThe Pennsylvania Food Policy Council\, established in December 2022 by Executive Order 2022-05\, is an important policy initiative of the Shapiro administration. Tasked with evaluating and advancing solutions to issues facing Pennsylvania’s food system\, the council will develop and implement strategies to improve food and nutrition security\, public health\, environmental sustainability and stewardship\, local food economies\, and to reduce food waste. Learn more here!
URL:https://www.lutheranadvocacypa.org/event/sunbucks-program-info-session/
LOCATION:Microsoft Teams
CATEGORIES:Education,Homepage Event,Hunger
ATTACH;FMTTYPE=image/png:https://www.lutheranadvocacypa.org/wp-content/uploads/2024/06/SUN-Bucks-Presentation-43.png
END:VEVENT
BEGIN:VEVENT
DTSTART;TZID=America/New_York:20240625T200000
DTEND;TZID=America/New_York:20240625T210000
DTSTAMP:20260422T083952
CREATED:20240625T193253Z
LAST-MODIFIED:20240625T193253Z
UID:13640-1719345600-1719349200@www.lutheranadvocacypa.org
SUMMARY:Lutherans Restoring Creation - June Connections Call
DESCRIPTION:Our Kairos Moment \nJoin LAMPa’s partners\, Lutherans Restoring Creation\, and Ryan Cumming\, Program Director\, Theological Ethics\, Education\, and Community Engagement to explore the ELCA’s brand new study guide\, “Our Kairos Moment: A Study Guide on Earth’s Climate Crisis\,” based on the ELCA’s 2023 social message. This is a four-session study guide for small groups and is available for Earth Day–or any day–to inspire learning and action. It uses videos\, storytelling\, bible studies\, and interactive activities to help your group explore the effects of climate change on communities in the U.S. and around the world and inspire one another to effective action. Each session–which can be done independently or as part of an educational series–ends with suggested activities participants can take part in in the days or weeks following their time together. \nVisit Faith and Society – Evangelical Lutheran Church in America (elca.org) to download your copy today. \nYou can register here.
URL:https://www.lutheranadvocacypa.org/event/lutherans-restoring-creation-june-connections-call/
LOCATION:Online Webinar
CATEGORIES:Advocacy,Civic Participation,Climate,Education,Environment
ATTACH;FMTTYPE=image/png:https://www.lutheranadvocacypa.org/wp-content/uploads/2023/12/Untitled-design-2.png
END:VEVENT
BEGIN:VEVENT
DTSTART;TZID=America/New_York:20240625T190000
DTEND;TZID=America/New_York:20240625T203000
DTSTAMP:20260422T083952
CREATED:20240520T123324Z
LAST-MODIFIED:20240520T123933Z
UID:13581-1719342000-1719347400@www.lutheranadvocacypa.org
SUMMARY:Kindling Faith - "Introduction to Social Teachings" with Dr. Roger Willer
DESCRIPTION:Join Kindling Faith for “Introduction to Social Teachings” with Dr. Roger Willer\, Director of Theological Ethics for the ELCA. \nThe learning session will take place online via Zoom from 7:00 p.m. to 8:30 p.m. on June 25. \nParticipation costs $20 per individual or $80 per congregation with no limit to the number in attendance. \nYou can register here. Please contact Pastor Martin Otto-Zimmann or your synod office for possible support and payment options. \nPlease check out our event pages for each event in the Kindling Faith series\, called “What does it mean to be Lutheran in a crucial election year?\,” and let LAMPa know if you plan to join any of the sessions. \nYou can find a page with all programming in the series here. \nKindling Faith: Learning Never Ends is a program of United Lutheran Seminary (ULS)\, a seminary of the Evangelical Lutheran Church in America (ELCA).
URL:https://www.lutheranadvocacypa.org/event/kindling-faith-introduction-to-social-teachings-with-dr-roger-willer/
LOCATION:Online Webinar
CATEGORIES:Advocacy,Civic Participation,Education,Elections,Homepage Event
ATTACH;FMTTYPE=image/png:https://www.lutheranadvocacypa.org/wp-content/uploads/2024/05/ULS-169.png
END:VEVENT
BEGIN:VEVENT
DTSTART;TZID=America/New_York:20240307T150000
DTEND;TZID=America/New_York:20240307T170000
DTSTAMP:20260422T083952
CREATED:20240226T235249Z
LAST-MODIFIED:20240228T144914Z
UID:13432-1709823600-1709830800@www.lutheranadvocacypa.org
SUMMARY:School Breakfast 101: Implementing Innovative Breakfast Models Webinar
DESCRIPTION:Join the Food Resource & Action Center (FRAC) for their webinar “School Breakfast 101: Implementing Innovative Breakfast Models.” \nThe webinar will take place Thursday\, March 7\, at 3:00 p.m. \nThe School Breakfast program supports student health and learning and improves school attendance; however\, traditional breakfast models\, where breakfast is served before the start of the school day\, hinder participation. Innovative breakfast models\, such as Breakfast After the Bell\, are effective ways to boost participation and ensure children start their day ready to learn. \nYou can join the FRAC this National School Breakfast Week to learn how schools are supporting student success through innovative breakfast models. \nThe FRAC improves the nutrition\, health\, and well-being of people struggling against poverty-related hunger in the United States through advocacy\, partnerships\, and by advancing bold and equitable policy solutions. \nLAMPa has been active in advocating for school breakfast for years. Reach out to us at lampa@lutheranadvocacy.org to share about your hunger ministries and advocacy for school breakfast. \nYou can register for the FRAC webinar here.
URL:https://www.lutheranadvocacypa.org/event/school-breakfast-101-implementing-innovative-breakfast-models-webinar/
LOCATION:Online Webinar
CATEGORIES:Advocacy,Civic Participation,Education,Homepage Event,Hunger
ATTACH;FMTTYPE=image/png:https://www.lutheranadvocacypa.org/wp-content/uploads/2024/02/Untitled-design-5.png
END:VEVENT
BEGIN:VEVENT
DTSTART;VALUE=DATE:20230320
DTEND;VALUE=DATE:20230322
DTSTAMP:20260422T083952
CREATED:20230131T214620Z
LAST-MODIFIED:20230131T214620Z
UID:12701-1679281200-1679367599@www.lutheranadvocacypa.org
SUMMARY:Kindling Faith: Lazareth Lecture - "What is Christian Nationalism?"
DESCRIPTION:White Christian Nationalism is the dangerous belief that America is –and must remain – a Christian nation founded for its white Christian inhabitants\, and that our laws and policies must reflect this premise. Such ideologies can lead to the erosion of democracy and the rise of authoritarianism and fascism. Rev. Dr. Pamela Cooper-White\, author of The Psychology of Christian Nationalism offers keen insights into the nature of this movement and how critical-thinking Christians can provide a much-needed counter-narrative to this fear-based rhetoric. \nSPEAKER: The Rev. Pamela Cooper-White\, Ph.D.\, is the Christiane Brooks Johnson Professor of Psychology and Religion and for the past 3 years served as Dean and Vice President for Academic Affairs\, at Union Theological Seminary\, New York.  She also serves as Assisting Priest at the Episcopal Cathedral of St. John the Divine in New York City.  She earned her MDiv and a PhD in historical musicology from Harvard University\, and a PhD in clinical social work at the Chicago Institute for Clinical Social Work. \nPrior to serving at Union Seminary\, she was the Ben G. and Nancye Clapp Gautier Professor of Pastoral Theology\, Care and Counseling at Columbia Theological Seminary in Decatur\, Georgia\, and Co-Director of the Atlanta Theological Association’s ThD program in pastoral counseling; and from1999-2008 she was associate and then full Professor of Pastoral Theology at the Lutheran Theological Seminary at Philadelphia (now ULS). \nIn person on the Philadelphia campus of ULS and livestreamed on the ULS YouTube channel. \nThis event is free and open to the public. A reception and book signing will follow the event.
URL:https://www.lutheranadvocacypa.org/event/kindling-faith-lazareth-lecture-what-is-christian-nationalism-2/
LOCATION:United Lutheran Seminary: Philadelphia Campus\, 7301 Germantown Ave\, Philadelphia\, PA\, 19119\, United States
CATEGORIES:Civic Participation,Education,Social Justice
ATTACH;FMTTYPE=image/png:https://www.lutheranadvocacypa.org/wp-content/uploads/2021/04/ULS.png
END:VEVENT
BEGIN:VEVENT
DTSTART;TZID=America/New_York:20230320T030000
DTEND;TZID=America/New_York:20230321T025959
DTSTAMP:20260422T083952
CREATED:20230131T214620Z
LAST-MODIFIED:20230131T214620Z
UID:11658-1679281200-1679367599@www.lutheranadvocacypa.org
SUMMARY:Kindling Faith: Lazareth Lecture - "What is Christian Nationalism?"
DESCRIPTION:White Christian Nationalism is the dangerous belief that America is –and must remain – a Christian nation founded for its white Christian inhabitants\, and that our laws and policies must reflect this premise. Such ideologies can lead to the erosion of democracy and the rise of authoritarianism and fascism. Rev. Dr. Pamela Cooper-White\, author of The Psychology of Christian Nationalism offers keen insights into the nature of this movement and how critical-thinking Christians can provide a much-needed counter-narrative to this fear-based rhetoric. \nSPEAKER: The Rev. Pamela Cooper-White\, Ph.D.\, is the Christiane Brooks Johnson Professor of Psychology and Religion and for the past 3 years served as Dean and Vice President for Academic Affairs\, at Union Theological Seminary\, New York.  She also serves as Assisting Priest at the Episcopal Cathedral of St. John the Divine in New York City.  She earned her MDiv and a PhD in historical musicology from Harvard University\, and a PhD in clinical social work at the Chicago Institute for Clinical Social Work. \nPrior to serving at Union Seminary\, she was the Ben G. and Nancye Clapp Gautier Professor of Pastoral Theology\, Care and Counseling at Columbia Theological Seminary in Decatur\, Georgia\, and Co-Director of the Atlanta Theological Association’s ThD program in pastoral counseling; and from1999-2008 she was associate and then full Professor of Pastoral Theology at the Lutheran Theological Seminary at Philadelphia (now ULS). \nIn person on the Philadelphia campus of ULS and livestreamed on the ULS YouTube channel. \nThis event is free and open to the public. A reception and book signing will follow the event.
URL:https://www.lutheranadvocacypa.org/event/kindling-faith-lazareth-lecture-what-is-christian-nationalism/
LOCATION:United Lutheran Seminary: Philadelphia Campus\, 7301 Germantown Ave\, Philadelphia\, PA\, 19119\, United States
CATEGORIES:Civic Participation,Education,Social Justice
ATTACH;FMTTYPE=image/png:https://www.lutheranadvocacypa.org/wp-content/uploads/2021/04/ULS.png
END:VEVENT
BEGIN:VEVENT
DTSTART;TZID=America/New_York:20220927T000000
DTEND;TZID=America/New_York:20220927T235959
DTSTAMP:20260422T083952
CREATED:20220817T105906Z
LAST-MODIFIED:20220817T105906Z
UID:11409-1664236800-1664323199@www.lutheranadvocacypa.org
SUMMARY:Conversation with the Author\, H. Paul Santmire – EcoActivist Testament
DESCRIPTION:September 27th\, 2022 Join us on Zoom at 8pm ET/ 7 CT/ 6 MT/ 5 PT / 4 AK \nLutherans Restoring Creation is excited to have theologian\, H. Paul Santmire\, join us to talk about his newest book: EcoActivist Testament: Faith Explorations for Fellow Travelers.  \nThis book was written especially for faith-driven ecoactivists who may be feeling overwhelmed\, even going as far as asking\, “why bother?” \nYou can get a copy before the call (details here)\, but don’t feel obliged to have it to join us in conversation – all are welcome! \nPlease register ahead of time to submit questions and get the Zoom link immediately – click here. 
URL:https://www.lutheranadvocacypa.org/event/conversation-with-the-author-h-paul-santmire-ecoactivist-testament/
LOCATION:Online Webinar
CATEGORIES:Climate,Education,Environment
ATTACH;FMTTYPE=:
END:VEVENT
BEGIN:VEVENT
DTSTART;VALUE=DATE:20220927
DTEND;VALUE=DATE:20220928
DTSTAMP:20260422T083952
CREATED:20220817T105906Z
LAST-MODIFIED:20220817T105906Z
UID:12692-1664236800-1664323199@www.lutheranadvocacypa.org
SUMMARY:Conversation with the Author\, H. Paul Santmire – EcoActivist Testament
DESCRIPTION:September 27th\, 2022 Join us on Zoom at 8pm ET/ 7 CT/ 6 MT/ 5 PT / 4 AK \nLutherans Restoring Creation is excited to have theologian\, H. Paul Santmire\, join us to talk about his newest book: EcoActivist Testament: Faith Explorations for Fellow Travelers.  \nThis book was written especially for faith-driven ecoactivists who may be feeling overwhelmed\, even going as far as asking\, “why bother?” \nYou can get a copy before the call (details here)\, but don’t feel obliged to have it to join us in conversation – all are welcome! \nPlease register ahead of time to submit questions and get the Zoom link immediately – click here. 
URL:https://www.lutheranadvocacypa.org/event/conversation-with-the-author-h-paul-santmire-ecoactivist-testament-2/
LOCATION:Online Webinar
CATEGORIES:Climate,Education,Environment
ATTACH;FMTTYPE=:
END:VEVENT
END:VCALENDAR