BEGIN:VCALENDAR
VERSION:2.0
PRODID:-//LAMPa - ECPv6.15.20//NONSGML v1.0//EN
CALSCALE:GREGORIAN
METHOD:PUBLISH
X-ORIGINAL-URL:https://www.lutheranadvocacypa.org
X-WR-CALDESC:Events for LAMPa
REFRESH-INTERVAL;VALUE=DURATION:PT1H
X-Robots-Tag:noindex
X-PUBLISHED-TTL:PT1H
BEGIN:VTIMEZONE
TZID:America/New_York
BEGIN:DAYLIGHT
TZOFFSETFROM:-0500
TZOFFSETTO:-0400
TZNAME:EDT
DTSTART:20230312T070000
END:DAYLIGHT
BEGIN:STANDARD
TZOFFSETFROM:-0400
TZOFFSETTO:-0500
TZNAME:EST
DTSTART:20231105T060000
END:STANDARD
BEGIN:DAYLIGHT
TZOFFSETFROM:-0500
TZOFFSETTO:-0400
TZNAME:EDT
DTSTART:20240310T070000
END:DAYLIGHT
BEGIN:STANDARD
TZOFFSETFROM:-0400
TZOFFSETTO:-0500
TZNAME:EST
DTSTART:20241103T060000
END:STANDARD
BEGIN:DAYLIGHT
TZOFFSETFROM:-0500
TZOFFSETTO:-0400
TZNAME:EDT
DTSTART:20250309T070000
END:DAYLIGHT
BEGIN:STANDARD
TZOFFSETFROM:-0400
TZOFFSETTO:-0500
TZNAME:EST
DTSTART:20251102T060000
END:STANDARD
BEGIN:DAYLIGHT
TZOFFSETFROM:-0500
TZOFFSETTO:-0400
TZNAME:EDT
DTSTART:20260308T070000
END:DAYLIGHT
BEGIN:STANDARD
TZOFFSETFROM:-0400
TZOFFSETTO:-0500
TZNAME:EST
DTSTART:20261101T060000
END:STANDARD
END:VTIMEZONE
BEGIN:VEVENT
DTSTART;TZID=America/New_York:20250116T090000
DTEND;TZID=America/New_York:20250116T100000
DTSTAMP:20260423T011017
CREATED:20250108T155833Z
LAST-MODIFIED:20250108T155833Z
UID:13854-1737018000-1737021600@www.lutheranadvocacypa.org
SUMMARY:LDR: Eastern Region Community of Practice Discussion
DESCRIPTION:Special Guest: Christine Moffett\, Program Director\, Environment and Energy Policy\nThis is a recurring\, quarterly online gathering \nJoin Lutheran Disaster Response’s Eastern Region Community of Practice Discussion to network with peers and colleagues. Our special guest in January will be Christine Moffett from Witness and Society\, who will share a briefing about her advocacy work in Washington\, D.C.\, and an opportunity to ask questions and share your thoughts\, successes\, and concerns around Federal disaster policy initiatives and how the ELCA can best advocate for your work. \nRegister online through LDR’s education portal. \nFind more of LDR’s Winter Education opportunities here.
URL:https://www.lutheranadvocacypa.org/event/ldr-eastern-region-community-of-practice-discussion/
LOCATION:Zoom
CATEGORIES:Advocacy,Climate,Disaster Response,Environment,Homepage Event
ATTACH;FMTTYPE=image/png:https://www.lutheranadvocacypa.org/wp-content/uploads/2024/01/LDR-169.png
END:VEVENT
BEGIN:VEVENT
DTSTART;TZID=America/New_York:20240904T120000
DTEND;TZID=America/New_York:20240906T140000
DTSTAMP:20260423T011017
CREATED:20240226T210533Z
LAST-MODIFIED:20240628T120348Z
UID:13391-1725451200-1725631200@www.lutheranadvocacypa.org
SUMMARY:Lutheran Disaster Response Leadership Training Camp
DESCRIPTION:You are invited to Lutheran Disaster Response leadership training camp in Crisfield\, Maryland\, on September 4-6\, 2024. \nAt this training\, participants will join a small group of folks to dive deep into what long term recovery is and why we engage in it\, from both spiritual and practical perspectives. As Lutherans\, our baptismal promises call us to serve all people. Disaster sites are places we are called to be as we seek to come alongside our neighbors facing harm and destruction. Lutheran Disaster Response\, one of only a few organizations doing this work\, is working to build their capacity to help meet needs as our communities face new challenges\, from tornado activity to flash flooding to poor air quality from fires hundreds of miles away. \nWith the training camp\, Lutheran Disaster Response hopes to provide training so that people can step up in a meaningful way with the knowledge and skills that are required for successful community recovery from disasters. \nThey are looking to build a cadre of folks with skills to lead\, support\, and guide community disaster response to support the most vulnerable in our communities. \nCamp will be a two-day training from which participants will leave having a deeper understanding of the elements of disaster recovery through a mix of real-life lived experience and didactic training. \nIt will be held at Camp Kairos\, a traditional volunteer camp of the Eastern Shore Long Term Recovery Committee. All camp expenses are being covered\, except travel to the event and hotel accommodations\, should you wish to stay at a local hotel instead of Camp Kairos. \nSponsorships are available to those who may need financial assistance in order to attend the event. \nAnyone interested in taking part in the training camp can contact Julia Frank. \nYou can register here. \nLutheran Disaster Response of the Evangelical Lutheran Church in America (ELCA) has long built networks to meet long-term disaster-related needs related to rebuilding homes\, helping with rental assistance\, and helping survivors navigate months and years of working through recovery\, including in our communities in Pennsylvania and beyond. \nYou can learn more about Lutheran Disaster Response here and find resources here.
URL:https://www.lutheranadvocacypa.org/event/lutheran-disaster-response-leadership-training-camp/
LOCATION:Camp Kairos\, Crisfield\, MD\, United States
CATEGORIES:Civic Participation,Disaster Response,Homepage Event
ATTACH;FMTTYPE=image/png:https://www.lutheranadvocacypa.org/wp-content/uploads/2024/01/LDR-169.png
END:VEVENT
BEGIN:VEVENT
DTSTART;TZID=America/New_York:20240516T140000
DTEND;TZID=America/New_York:20240516T150000
DTSTAMP:20260423T011017
CREATED:20240130T231013Z
LAST-MODIFIED:20240130T231013Z
UID:13346-1715868000-1715871600@www.lutheranadvocacypa.org
SUMMARY:Western Region Community of Practice Discussion
DESCRIPTION:Join Lutheran Disaster Response for training and engagement. \nJoin LDR’s Western Region Community of Practice Discussion to network with peers and colleagues. This is a recurring\, quarterly online gathering. \nThursday\, May 16 \n2:00 p.m. ET \n1 hour | Online via Zoom \nConvener: Sean Coffman \nThe event is free and open to the public. \nYou can register here.
URL:https://www.lutheranadvocacypa.org/event/western-region-community-of-practice-discussion/
LOCATION:Online Webinar
CATEGORIES:Civic Participation,Disaster Response
ATTACH;FMTTYPE=image/png:https://www.lutheranadvocacypa.org/wp-content/uploads/2024/01/LDR_4c_stacked.png
END:VEVENT
BEGIN:VEVENT
DTSTART;TZID=America/New_York:20240506T090000
DTEND;TZID=America/New_York:20240509T160000
DTSTAMP:20260423T011017
CREATED:20240130T231119Z
LAST-MODIFIED:20240130T231119Z
UID:13344-1714986000-1715270400@www.lutheranadvocacypa.org
SUMMARY:National VOAD Conference & CoP Dinner
DESCRIPTION:Join Lutheran Disaster Response for training and engagement. \nNational VOAD is excited to announce the theme for the 2024 National VOAD Conference being held in Phoenix\, Arizona\, May 6-9 is “United in Service.” The conference aims to minimize and alleviate the effects of disasters\, encourage cooperation\, communication\, coordination\, and collaboration\, and enhance service delivery to affected communities. \nThroughout the conference\, LDR will host a booth\, so plan to stop by and say ‘hi’ to LDR national staff or regional partners. \nYou’re also invited to join LDR on Wednesday\, May 8\, for an evening dinner for informal networking with your Community of Practice peers. Keep your eyes out for an RSVP as we get closer to the conference. \nLearn more about the conference at the NVOAD website. \nMonday\, May 6 through Thursday\, May 9 \n9 a.m. to 4 p.m. each day \nLunch provided | Phoenix\, Arizona \nConveners: Multiple LDR National Staff \nThe event is free and open to the public. \nYou can register here.
URL:https://www.lutheranadvocacypa.org/event/national-voad-conference-cop-dinner/
LOCATION:Hilton Phoenix Resort at the Peak\, Phoenix\, AZ\, United States
CATEGORIES:Civic Participation,Disaster Response
ATTACH;FMTTYPE=image/png:https://www.lutheranadvocacypa.org/wp-content/uploads/2024/01/LDR_4c_stacked.png
END:VEVENT
BEGIN:VEVENT
DTSTART;TZID=America/New_York:20240408T120000
DTEND;TZID=America/New_York:20240409T120000
DTSTAMP:20260423T011017
CREATED:20240130T231212Z
LAST-MODIFIED:20240130T231212Z
UID:13342-1712577600-1712664000@www.lutheranadvocacypa.org
SUMMARY:Mid-Atlantic Regional VOAD Conference
DESCRIPTION:Join Lutheran Disaster Response for training and engagement. \nThis regional VOAD conference is being sponsored by the state VOADs within FEMA Region 3 and include Maryland VOAD\, Delaware VOAD\, Pennsylvania VOAD\, West Virginia VOAD\, DC VOAD and Virginia VOAD. The event will focus on the science behind the increased intensity and frequency of storms\, and other effects communities will continue to see as the result of global warming and climate change. This first regional annual conference will take place at Cacapon State Park\, Berkley Springs\, W. Va. Learn more about this regional VOAD conference by contacting Rev. Phil Huber at chairperson@marylandvoad.org \nMonday\, April 8 and Tuesday\, April 9 \nNoon Monday to noon Tuesday | Berkley Springs\, W. Va. \nThe event is free and open to the public. \nYou can register here.
URL:https://www.lutheranadvocacypa.org/event/mid-atlantic-regional-voad-conference/
LOCATION:Cacapon State Park\, Berkley Springs\, WV\, United States
CATEGORIES:Civic Participation,Disaster Response
ATTACH;FMTTYPE=image/png:https://www.lutheranadvocacypa.org/wp-content/uploads/2024/01/LDR_4c_stacked.png
END:VEVENT
BEGIN:VEVENT
DTSTART;VALUE=DATE:20240408
DTEND;VALUE=DATE:20240412
DTSTAMP:20260423T011017
CREATED:20240130T231308Z
LAST-MODIFIED:20240130T231308Z
UID:13340-1712534400-1712879999@www.lutheranadvocacypa.org
SUMMARY:Mountain West Regional VOAD Conference
DESCRIPTION:Join Lutheran Disaster Response for training and engagement. \nThe Mountain West VOAD bolsters relationships and capabilities between states that experience similar challenges in disaster response\, including Alaska\, Colorado\, Oregon\, Idaho\, Utah\, Montana\, Nevada\, Nebraska\, New Mexico\, North Dakota\, South Dakota\, Washington\, and Wyoming. Learn more about the Mountain West VOAD here. \nMonday\, April 8\, through Thursday\, April 11 \nAll day | Seattle\, Wash. \nThe event is free and open to the public. \nYou can register here.
URL:https://www.lutheranadvocacypa.org/event/mountain-west-regional-voad-conference/
LOCATION:Kent United Methodist Church\, Kent\, WA\, United States
CATEGORIES:Civic Participation,Disaster Response
ATTACH;FMTTYPE=image/png:https://www.lutheranadvocacypa.org/wp-content/uploads/2024/01/LDR_4c_stacked.png
END:VEVENT
BEGIN:VEVENT
DTSTART;TZID=America/New_York:20240319T140000
DTEND;TZID=America/New_York:20240319T153000
DTSTAMP:20260423T011017
CREATED:20240130T230856Z
LAST-MODIFIED:20240130T230856Z
UID:13339-1710856800-1710862200@www.lutheranadvocacypa.org
SUMMARY:Psychological First Aid: An Overview
DESCRIPTION:Join Lutheran Disaster Response for training and engagement. \n“Psychological First Aid (PFA): An Overview” will introduce the principles and core actions of PFA and describe ways to apply them in post-disaster scenarios and with different survivor needs. PFA\, the practice of recognizing and responding to people experiencing crisis-related stress\, can be used to help yourself and others to cope in the face of stressful events. \nSUGGESTED PREREQUISITES: “Introduction to Disaster or Just in Time: Disaster Response.” \nAlso available online as a self-paced module. \nTuesday\, March 19 \n2:00 p.m. ET \n90 min | Online via Zoom \nFacilitator: Kristyne Duffy \nThe event is free and open to the public. \nYou can register here.
URL:https://www.lutheranadvocacypa.org/event/psychological-first-aid-an-overview/
LOCATION:Online Webinar
CATEGORIES:Civic Participation,Disaster Response
ATTACH;FMTTYPE=image/png:https://www.lutheranadvocacypa.org/wp-content/uploads/2024/01/LDR_4c_stacked.png
END:VEVENT
BEGIN:VEVENT
DTSTART;TZID=America/New_York:20240314T140000
DTEND;TZID=America/New_York:20240314T160000
DTSTAMP:20260423T011017
CREATED:20240130T230754Z
LAST-MODIFIED:20240130T230754Z
UID:13338-1710424800-1710432000@www.lutheranadvocacypa.org
SUMMARY:Connecting the Dots of Long-Term Recovery
DESCRIPTION:Join Lutheran Disaster Response for training and engagement. \n“Connecting the Dots” is good for all who are involved in or working with developing a Long- Term Recovery Group (LTRG). Long-term recovery has many different components\, terminology\, structures\, and players. The players may be community groups\, faith-based\, other non-profit or for-profit organizations\, and government partners and programs. The most important factor is the need to have the flexibility\, to assist the individuals and families as they navigate the many issues\, programs\, and decisions they will face as they and the community move to “connect the dots” of recovery. \nSUGGESTED PREREQUISITES: “Introduction to Disaster or Just in Time: Disaster Response.” \nThursday\, March 14 \n2:00 p.m. ET \nFacilitator: Sean Coffman \nThe event is free and open to the public. \nYou can register here.
URL:https://www.lutheranadvocacypa.org/event/connecting-the-dots-of-long-term-recovery/
LOCATION:Online Webinar
CATEGORIES:Civic Participation,Disaster Response
ATTACH;FMTTYPE=image/png:https://www.lutheranadvocacypa.org/wp-content/uploads/2024/01/LDR_4c_stacked.png
END:VEVENT
BEGIN:VEVENT
DTSTART;TZID=America/New_York:20240305T143000
DTEND;TZID=America/New_York:20240305T153000
DTSTAMP:20260423T011017
CREATED:20240130T230659Z
LAST-MODIFIED:20240130T230659Z
UID:13337-1709649000-1709652600@www.lutheranadvocacypa.org
SUMMARY:Access and Functional Needs in Disasters
DESCRIPTION:Join Lutheran Disaster Response for training and engagement. \n“Access and Functional Needs in Disasters” is a workshop that will explore what access and functional needs are\, how they intersect with all phases of disaster\, and what steps you can take to ensure the full needs of the community are being met. \nTuesday\, March 5 \n2:30 p.m. ET \n1 hour | Online via Zoom \nFacilitator: Grete Oanes \nThe event is free and open to the public. \nYou can register here.
URL:https://www.lutheranadvocacypa.org/event/access-and-functional-needs-in-disasters/
LOCATION:Online Webinar
CATEGORIES:Civic Participation,Disaster Response
ATTACH;FMTTYPE=image/png:https://www.lutheranadvocacypa.org/wp-content/uploads/2024/01/LDR_4c_stacked.png
END:VEVENT
BEGIN:VEVENT
DTSTART;TZID=America/New_York:20240227T140000
DTEND;TZID=America/New_York:20240227T160000
DTSTAMP:20260423T011017
CREATED:20240130T230456Z
LAST-MODIFIED:20240130T230554Z
UID:13336-1709042400-1709049600@www.lutheranadvocacypa.org
SUMMARY:Preparedness for Faith-Based Organizations
DESCRIPTION:Join Lutheran Disaster Response for training and engagement. \n“Preparedness for Faith-Based Organizations” is a 2-hour course designed to precisely define organizational preparedness\, and expand on what it entails\, the six attributes of a prepared organization\, and common challenges that organizations face in becoming prepared. \nSUGGESTED PREREQUISITES: “Introduction to Disaster” or “Just in Time: Disaster Response.” \nAlso available online as a self-paced module. \nTuesday\, February 27 \n2:00 p.m. ET \n2 hours | Online via Zoom \nFacilitator: Sean Coffman \nThe event is free and open to the public. \nYou can register here.
URL:https://www.lutheranadvocacypa.org/event/preparedness-for-faith-based-organizations/
LOCATION:Online Webinar
CATEGORIES:Civic Participation,Disaster Response
ATTACH;FMTTYPE=image/png:https://www.lutheranadvocacypa.org/wp-content/uploads/2024/01/LDR_4c_stacked.png
END:VEVENT
BEGIN:VEVENT
DTSTART;TZID=America/New_York:20240220T110000
DTEND;TZID=America/New_York:20240220T120000
DTSTAMP:20260423T011017
CREATED:20240130T230351Z
LAST-MODIFIED:20240130T230351Z
UID:13334-1708426800-1708430400@www.lutheranadvocacypa.org
SUMMARY:Faith Community Disaster Preparedness
DESCRIPTION:Join Lutheran Disaster Response for training and engagement. \nJoin LDR and Crisis Care Ministries for a discussion about “Faith Community Disaster Preparedness.” The discussion is part of CCM’s Trauma-Informed Faith Communities project\, and their live webinar series “Navigating the Storm.” \nThe Trauma-Informed Faith Communities project is designed to strengthen the capacity of faith and community leaders to better respond to individuals and communities affected by and at risk for experiencing numerous crises and disasters. \nPRESENTED IN PARTNERSHIP WITH CRISIS CARE MINISTRIES. TO REGISTER\, FOLLOW THIS LINK. \nTuesday\, February 20 \n11:00 a.m. ET \n60 min | Online via Zoom \nFacilitator: LDR Staff \nThe event is free and open to the public. \nYou can register here.
URL:https://www.lutheranadvocacypa.org/event/faith-community-disaster-preparedness/
LOCATION:Online Webinar
CATEGORIES:Civic Participation,Disaster Response
ATTACH;FMTTYPE=image/png:https://www.lutheranadvocacypa.org/wp-content/uploads/2024/01/LDR_4c_stacked.png
END:VEVENT
BEGIN:VEVENT
DTSTART;TZID=America/New_York:20240207T090000
DTEND;TZID=America/New_York:20240208T160000
DTSTAMP:20260423T011017
CREATED:20240130T230227Z
LAST-MODIFIED:20240131T150225Z
UID:13317-1707296400-1707408000@www.lutheranadvocacypa.org
SUMMARY:Introduction to Disaster Case Management
DESCRIPTION:Join Lutheran Disaster Response for training and engagement. \nIn this interactive\, two-day\, in-person course\, participants will learn about disaster case management\, its role in disaster recovery\, and the benefits a disaster case manager can offer to communities impacted by disaster. \nParticipants will learn about disaster case management and essential considerations affecting a client’s recovery through discussion\, individual activities\, and group training exercises. \nThis course explores the vital skills and considerations needed to be a disaster case manager\, demonstrates techniques for working with clients and the development of a recovery plan\, and how to present a client’s case to a Long-Term Recovery Group for funding. \nLutheran Disaster Response and its affiliates developed this course to build the capacity to sustain professional\, standardized disaster services\, strengthen the resilience of communities affected by disasters that receive little attention\, and reduce people’s suffering\, especially vulnerable populations who are often underserved and uninsured. This course is designed for anyone interested in helping the community after a natural or human-caused disaster. \nWednesday\, February 7\, and Thursday\, February 8 \n9 a.m. to 4 p.m. each day \nLunch provided | Kansas City\, Mo. \nPresented in partnership with the Kansas City Regional COAD \nAttendance at both days required | Register Online \nFacilitators: Maryn Olson and Kristyne Duffy \nThe event is free and open to the public. \nYou can register here.
URL:https://www.lutheranadvocacypa.org/event/introduction-to-disaster-case-management/
LOCATION:Independence Utilities Center\, 17221 East 23rd Street South\, Independence\, MO\, United States
CATEGORIES:Civic Participation,Disaster Response,Homepage Event
ATTACH;FMTTYPE=image/png:https://www.lutheranadvocacypa.org/wp-content/uploads/2024/01/LDR-169.png
END:VEVENT
BEGIN:VEVENT
DTSTART;TZID=America/New_York:20240131T160000
DTEND;TZID=America/New_York:20240131T173000
DTSTAMP:20260423T011017
CREATED:20240130T213341Z
LAST-MODIFIED:20240130T231508Z
UID:13314-1706716800-1706722200@www.lutheranadvocacypa.org
SUMMARY:Environmental Justice 101
DESCRIPTION:Join Lutheran Disaster Response for training and engagement. \n“Environmental Justice 101” is an interactive workshop which will provide a brief history of the concept of environmental justice\, a survey of current issues\, and important considerations for disaster response\, recovery\, and resilience work in “environmental justice” communities. \nWednesday\, January 31 \n4:00 p.m. ET \n90 min | Online via Zoom \nFacilitator: Rev. Matthew Zemanick \nThe event is free and open to the public. \nYou can register here.
URL:https://www.lutheranadvocacypa.org/event/environmental-justice-101/
LOCATION:Online Webinar
CATEGORIES:Civic Participation,Disaster Response
ATTACH;FMTTYPE=image/png:https://www.lutheranadvocacypa.org/wp-content/uploads/2024/01/LDR_4c_stacked.png
END:VEVENT
BEGIN:VEVENT
DTSTART;TZID=America/New_York:20240125T140000
DTEND;TZID=America/New_York:20240125T160000
DTSTAMP:20260423T011017
CREATED:20240130T213222Z
LAST-MODIFIED:20240130T213222Z
UID:13312-1706191200-1706198400@www.lutheranadvocacypa.org
SUMMARY:LDR Connections to Synods and Congregations
DESCRIPTION:Join Lutheran Disaster Response for training and engagement. \n“LDR Connections to Synods and Congregations” is designed to help synods and congregations understand the different ways to be involved in disaster response. The course identifies the different phases of a disaster and examines disaster’s broader definition\, from weather-related events to care for the creation\, school shootings\, and water crises. The course also covers the importance of volunteers. It prepares participants with an overview of forms\, processes\, orientation\, and ways to best utilize volunteers in the ways your synod or congregation may want to become involved with Lutheran Disaster Response. \nThursday\, January 25 \n2:00 p.m. ET \n2 hours | Online via Zoom \nFacilitator: Sean Coffman \nThe event is free and open to the public. \nYou can register here.
URL:https://www.lutheranadvocacypa.org/event/ldr-connections-to-synods-and-congregations/
LOCATION:Online Webinar
CATEGORIES:Civic Participation,Disaster Response
ATTACH;FMTTYPE=image/png:https://www.lutheranadvocacypa.org/wp-content/uploads/2023/09/ELCA-Globe-Only.png
END:VEVENT
END:VCALENDAR